BEGIN:VCALENDAR
VERSION:2.0
PRODID:-//A Studio in the Woods - ECPv6.15.18//NONSGML v1.0//EN
CALSCALE:GREGORIAN
METHOD:PUBLISH
X-ORIGINAL-URL:https://astudiointhewoods.org
X-WR-CALDESC:Events for A Studio in the Woods
REFRESH-INTERVAL;VALUE=DURATION:PT1H
X-Robots-Tag:noindex
X-PUBLISHED-TTL:PT1H
BEGIN:VTIMEZONE
TZID:UTC
BEGIN:STANDARD
TZOFFSETFROM:+0000
TZOFFSETTO:+0000
TZNAME:UTC
DTSTART:20250101T000000
END:STANDARD
END:VTIMEZONE
BEGIN:VEVENT
DTSTART;TZID=UTC:20260425T180000
DTEND;TZID=UTC:20260425T200000
DTSTAMP:20260421T080222
CREATED:20260313T143424Z
LAST-MODIFIED:20260415T165059Z
UID:8365-1777140000-1777147200@astudiointhewoods.org
SUMMARY:A Studio on the Bayou: A benefit for A Studio in the Woods
DESCRIPTION:We’re throwing a post-Jazz Fest bash to celebrate supporters of A Studio in the Woods at the home of Jane and Dr. Charles Billings on Bayou St. John. Join us for music\, food\, art\, and fun after the first Saturday of Jazz Fest at A Studio on the Bayou. \nIf you’re already a monthly donor\, check your email for an invitation in the coming days! Not signed up yet? Join us here to support arts and the woods year round. \nA Studio in the Woods exists because of your generosity and support. Monthly donors allow us to From hosting over 50 artists and scholars each year to putting on FORESTival (and a million events in between!)\, this work wouldn’t be possible without you. 
URL:https://astudiointhewoods.org/event/a-studio-on-the-bayou-a-benefit-for-a-studio-in-the-woods/
LOCATION:LA
ATTACH;FMTTYPE=image/png:https://astudiointhewoods.org/wp-content/uploads/2026/03/A-Studio-in-the-Woods-3.png
END:VEVENT
END:VCALENDAR