BEGIN:VCALENDAR
VERSION:2.0
PRODID:-//A Studio in the Woods - ECPv6.15.18//NONSGML v1.0//EN
CALSCALE:GREGORIAN
METHOD:PUBLISH
X-WR-CALNAME:A Studio in the Woods
X-ORIGINAL-URL:https://astudiointhewoods.org
X-WR-CALDESC:Events for A Studio in the Woods
REFRESH-INTERVAL;VALUE=DURATION:PT1H
X-Robots-Tag:noindex
X-PUBLISHED-TTL:PT1H
BEGIN:VTIMEZONE
TZID:UTC
BEGIN:STANDARD
TZOFFSETFROM:+0000
TZOFFSETTO:+0000
TZNAME:UTC
DTSTART:20240101T000000
END:STANDARD
END:VTIMEZONE
BEGIN:VEVENT
DTSTART;TZID=UTC:20250214T100000
DTEND;TZID=UTC:20250214T120000
DTSTAMP:20260420T160114
CREATED:20250102T182307Z
LAST-MODIFIED:20250212T164221Z
UID:7948-1739527200-1739534400@astudiointhewoods.org
SUMMARY:Celebrate Valentine's Day with a Walk in the Woods with David Baker
DESCRIPTION:Whether you’re celebrating Valentine’s Day\, Galentine’s or just giving yourself some self-love join us for a Walk in the Woods with our Ecologist and Environmental Curator\, David Baker\, Friday\, February 14 at 10am to learn about his work and the new trees that have been released from the grips of blackberry vines. We invite you to come witness this lovingly managed forest where over 1\,200 trees tagged and mapped at A Studio in The Woods between 2020-2025.  \nMake sure to bring your lunch and a blanket to enjoy a picnic in our meadow afterward\, weather permitting! Light refreshments will be provided. You’ll also have a chance to take a self-guided tour of Self as Universe resident\, Hali Dardar‘s working studio! She has been working on her project\, Imagining Leveys\, which explores how Gulf South communities can maintain sovereignty and security of their futures while collaborating with external partners to create stories. \nThe event is free but registration is required and can be completed here. \nParking will be on Patterson Rd. outside of A Studio in the Woods campus at visitor’s own risk. Please wear enclosed shoes and dress accordingly. No Pets allowed. \nBy attending this event\, you understand that you may appear in marketing materials and herby consent to the reproduction and use of any image\, video or audio recording for any promotional purposes you may appear in.
URL:https://astudiointhewoods.org/event/celebrate-valentines-day-with-a-walk-in-the-woods-with-david-baker/
LOCATION:A Studio in the Woods\, 13401 Patterson Rd\, New Orleans\, LA\, 70131\, United States
ATTACH;FMTTYPE=image/jpeg:https://astudiointhewoods.org/wp-content/uploads/2024/12/Walk-in-the-Woods-2.14.jpg
END:VEVENT
END:VCALENDAR